BEGIN:VCALENDAR
VERSION:2.0
PRODID:-//ChamberMaster//Event Calendar 2.0//EN
METHOD:PUBLISH
X-PUBLISHED-TTL:P3D
REFRESH-INTERVAL:P3D
CALSCALE:GREGORIAN
BEGIN:VEVENT
DTSTART:20180131T230000Z
DTEND:20180201T010000Z
X-MICROSOFT-CDO-ALLDAYEVENT:FALSE
SUMMARY:Writing a Business Plan
DESCRIPTION:Designed for individuals who want to increase their chances for successful self-employment\, or business launch\, this course covers business planning in detail. Specifics of marketing\, finance\, legal\, regulatory issues\, operations\, information based planning and management are key components of this workshop.
X-ALT-DESC;FMTTYPE=text/html:Designed for individuals who want to increase their chances for successful self-employment\, or business launch\, this course covers business planning in detail. Specifics of marketing\, finance\, legal\, regulatory issues\, operations\, information based planning and management are key components of this workshop.
LOCATION:Montcalm Community College 1325 Yellow Jacket Dr. Greenville\, MI
UID:e.2018.704
SEQUENCE:3
DTSTAMP:20260423T003735Z
URL:https://members.westmihcc.org/events/details/writing-a-business-plan-01-31-2018-704
END:VEVENT

END:VCALENDAR
