BEGIN:VCALENDAR
VERSION:2.0
PRODID:-//ChamberMaster//Event Calendar 2.0//EN
METHOD:PUBLISH
X-PUBLISHED-TTL:P3D
REFRESH-INTERVAL:P3D
CALSCALE:GREGORIAN
BEGIN:VEVENT
DTSTART:20191023T220000Z
DTEND:20191024T000000Z
X-MICROSOFT-CDO-ALLDAYEVENT:FALSE
SUMMARY:Writing a Business Plan
DESCRIPTION:Designed for individuals who want to increase their chances for successful self-employment\, or business launch\, this course covers business planning in detail. Specifics of marketing\, finance\, legal\, regulatory issues\, operations\, information-based planning and management are key components of this workshop. The first steps for creating a business plan draft are included. Live examples of effective business plans are used as course material. To register\, click on this link: https://clients.sbdcmichigan.org/workshop.aspx?ekey=70390144. No cost.
X-ALT-DESC;FMTTYPE=text/html:Designed for individuals who want to increase their chances for successful self-employment\, or business launch\, this course covers business planning in detail. Specifics of marketing\, finance\, legal\, regulatory issues\, operations\, information-based planning and management are key components of this workshop. The first steps for creating a business plan draft are included. Live examples of effective business plans are used as course material. To register\, click on this link: https://clients.sbdcmichigan.org/workshop.aspx?ekey=70390144. No cost.
LOCATION:Montcalm Community College Stanley and Blanche Ash Technology and Learning Center 1325 Yellow Jacket Drive Greenville\, MI 48838
UID:e.2018.1323
SEQUENCE:3
DTSTAMP:20260419T212246Z
URL:https://members.westmihcc.org/events/details/writing-a-business-plan-10-23-2019-1323
END:VEVENT

END:VCALENDAR
