BEGIN:VCALENDAR
VERSION:2.0
PRODID:-//ChamberMaster//Event Calendar 2.0//EN
METHOD:PUBLISH
X-PUBLISHED-TTL:P3D
REFRESH-INTERVAL:P3D
CALSCALE:GREGORIAN
BEGIN:VEVENT
DTSTART:20171009T210000Z
DTEND:20171009T230000Z
X-MICROSOFT-CDO-ALLDAYEVENT:FALSE
SUMMARY:Writing a Business Plan
DESCRIPTION:Designed for individuals who want to increase their chances for successful self-employment\, or business launch\, this course covers business planning in detail. The first steps for creating a business plan draft will be included. Live examples of effective business plans are used as course material.
X-ALT-DESC;FMTTYPE=text/html:Designed for individuals who want to increase their chances for successful self-employment\, or business launch\, this course covers business planning in detail. The first steps for creating a business plan draft will be included. Live examples of effective business plans are used as course material.
LOCATION:1971 S State Rd. Ionia\, MI 48846
UID:e.2018.670
SEQUENCE:3
DTSTAMP:20260423T050548Z
URL:https://members.westmihcc.org/events/details/writing-a-business-plan-670
END:VEVENT

END:VCALENDAR
