BEGIN:VCALENDAR
VERSION:2.0
PRODID:-//ChamberMaster//Event Calendar 2.0//EN
METHOD:PUBLISH
X-PUBLISHED-TTL:P3D
REFRESH-INTERVAL:P3D
CALSCALE:GREGORIAN
BEGIN:VEVENT
DTSTART:20190212T003000Z
DTEND:20190212T023000Z
X-MICROSOFT-CDO-ALLDAYEVENT:FALSE
SUMMARY:WWE RAW
DESCRIPTION:Monday night WWE RAW returns to Van Andel Arena on Monday\, February 11th\, 2019 at 7:30PM. Monday night RAW returns for the 1st time in 2019 with Seth Rollins vs. Dean Ambrose for the Intercontinental Championship. Also featuring Braun Strowman vs. Baron Corbin\, Ronday Rousey vs. Nia Jax plus Bobby Lashley and many more LIVE! *Card is subject to change.
X-ALT-DESC;FMTTYPE=text/html:Monday night WWE RAW returns to Van Andel Arena on Monday\, February 11th\, 2019 at 7:30PM. Monday night RAW returns for the 1st time in 2019 with Seth Rollins vs. Dean Ambrose for the Intercontinental Championship. Also featuring Braun Strowman vs. Baron Corbin\, Ronday Rousey vs. Nia Jax plus Bobby Lashley and many more LIVE! *Card is subject to change.
LOCATION:Van Andel Arena
UID:e.2018.1002
SEQUENCE:3
DTSTAMP:20260420T075934Z
URL:https://members.westmihcc.org/events/details/wwe-raw-02-11-2019-1002
END:VEVENT

END:VCALENDAR
