BEGIN:VCALENDAR
VERSION:2.0
PRODID:-//ChamberMaster//Event Calendar 2.0//EN
METHOD:PUBLISH
X-PUBLISHED-TTL:P3D
REFRESH-INTERVAL:P3D
CALSCALE:GREGORIAN
BEGIN:VEVENT
DTSTART:20180618T233000Z
DTEND:20180619T030000Z
X-MICROSOFT-CDO-ALLDAYEVENT:FALSE
SUMMARY:WWE RAW
DESCRIPTION:WWE RAW returns to Van Andel Arena for the first time in over a year on Monday\, June 18\, 2018 with a Double Main Event! This event will feature: main event Roman Reigns vs. Samoa Joe\, co main event Nia Jax vs. Alex Bliss\, General Manager Kurt Angle\, Braun Strowman\, Seth Rollins\, The Bar - Sheamus & Cesaro\, The Miz\, Finn Balor and more!! *Line up is subject to change*
X-ALT-DESC;FMTTYPE=text/html:WWE RAW returns to Van Andel Arena for the first time in over a year on Monday\, June 18\, 2018 with a Double Main Event! This event will feature: main event Roman Reigns vs. Samoa Joe\, co main event Nia Jax vs. Alex Bliss\, General Manager Kurt Angle\, Braun Strowman\, Seth Rollins\, The Bar - Sheamus &amp\; Cesaro\, The Miz\, Finn Balor and more!! *Line up is subject to change*
LOCATION:Van Andel Arena
UID:e.2018.811
SEQUENCE:3
DTSTAMP:20260422T171648Z
URL:https://members.westmihcc.org/events/details/wwe-raw-811
END:VEVENT

END:VCALENDAR
