BEGIN:VCALENDAR
VERSION:2.0
PRODID:-//ChamberMaster//Event Calendar 2.0//EN
METHOD:PUBLISH
X-PUBLISHED-TTL:P3D
REFRESH-INTERVAL:P3D
CALSCALE:GREGORIAN
BEGIN:VEVENT
DTSTART:20160712T230000Z
DTEND:20160713T020000Z
X-MICROSOFT-CDO-ALLDAYEVENT:FALSE
SUMMARY:WWE Smackdown
DESCRIPTION:Live at Van Andel Arena! Tuesday\, July 12\, 2016 at 7:00 PM See your favorite WWE Superstars including: WWE World Heavyweight Champion - ROMAN REIGNS WWE Tag Team Champions - THE NEW DAY AJ STYLES\, KEVIN OWENS\, SHEAMUS WWE Women's Champion - CHARLOTTE And Many More\, LIVE!!** ** Talent is subject to change** Tickets go on sale Saturday\, May 7\, 2016 @ 10 AM.
X-ALT-DESC;FMTTYPE=text/html:Live at Van Andel Arena! Tuesday\, July 12\, 2016 at 7:00 PM See your favorite WWE Superstars including: WWE World Heavyweight Champion - ROMAN REIGNS WWE Tag Team Champions - THE NEW DAY AJ STYLES\, KEVIN OWENS\, SHEAMUS WWE Women&#39\;s Champion - CHARLOTTE And Many More\, LIVE!!** ** Talent is subject to change** Tickets go on sale Saturday\, May 7\, 2016 @ 10 AM.
LOCATION:Van Andel Arena
UID:e.2018.385
SEQUENCE:3
DTSTAMP:20260426T011247Z
URL:https://members.westmihcc.org/events/details/wwe-smackdown-07-12-2016-385
END:VEVENT

END:VCALENDAR
