BEGIN:VCALENDAR
VERSION:2.0
PRODID:-//ChamberMaster//Event Calendar 2.0//EN
METHOD:PUBLISH
X-PUBLISHED-TTL:P3D
REFRESH-INTERVAL:P3D
CALSCALE:GREGORIAN
BEGIN:VEVENT
DTSTART:20171010T234500Z
DTEND:20171011T030000Z
X-MICROSOFT-CDO-ALLDAYEVENT:FALSE
SUMMARY:WWE Smackdwon
DESCRIPTION:WWE Smackdown is coming to the Van Andel Arena LIVE Tuesday\, October 10th! Tickets are available 10 AM August 11th at the Van Andel Arena or DeVos Place box office or via Ticketmaster.com
X-ALT-DESC;FMTTYPE=text/html:WWE Smackdown is coming to the Van Andel Arena LIVE Tuesday\, October 10th! Tickets are available 10 AM August 11th at the Van Andel Arena or DeVos Place box office or via Ticketmaster.com
LOCATION:Van Andel Arena
UID:e.2018.644
SEQUENCE:3
DTSTAMP:20260423T050546Z
URL:https://members.westmihcc.org/events/details/wwe-smackdwon-644
END:VEVENT

END:VCALENDAR
