BEGIN:VCALENDAR
VERSION:2.0
PRODID:-//ChamberMaster//Event Calendar 2.0//EN
METHOD:PUBLISH
X-PUBLISHED-TTL:P3D
REFRESH-INTERVAL:P3D
CALSCALE:GREGORIAN
BEGIN:VEVENT
DTSTART:20180724T233000Z
DTEND:20180725T020000Z
X-MICROSOFT-CDO-ALLDAYEVENT:FALSE
SUMMARY:Yanni
DESCRIPTION:Legendary performer and composer Yanni has announced he will celebrate the 25th Anniversary of "Live At The Acropolis" with a world tour that will launch this Spring in the United States with a stop at DeVos Performance Hall on Friday\, July 24th at 7:30PM. This is Yanni as you know him best\, performing his instrumental hits from shows that have become famous around the world. Fans will witness Yanni and his world-class musicians as they take the stage to perform his greatest instrumental hits made famous in his shows from The Acropolis in Greece\, The Taj Mahal in India\, The Forbidden City in China and The Royal Albert Hall in England. For the first time ever\, the live show will also introduce music from Yanni's new album "Truth of Touch\," which is the composers first album of original studio music in almost a decade. Tickets on sale on Monday\, December 18th at 10AM. Tickets available online at Ticketmaster.com\, Van Andel Arena & DeVos Place box office and charge by phone at 1-800-745-3000. Ticket prices are subject to change. Group Sales tickets available for groups of 10+. VIP Offer available online at Ticketmaster.com and by phone only. Yanni's VIP Premium Merchandise Package includes reserved seating in rows 1-10\, exclusive Yanni merchandise designed specifically for premium packages\, a commemorative Yanni VIP laminate and an on-site greeter.
X-ALT-DESC;FMTTYPE=text/html:Legendary performer and composer Yanni has announced he will celebrate the 25th Anniversary of &quot\;Live At The Acropolis&quot\; with a world tour that will launch this Spring in the United States with a stop at DeVos Performance Hall on Friday\, July 24th at 7:30PM. This is Yanni as you know him best\, performing his instrumental hits from shows that have become famous around the world. Fans will witness Yanni and his world-class musicians as they take the stage to perform his greatest instrumental hits made famous in his shows from The Acropolis in Greece\, The Taj Mahal in India\, The Forbidden City in China and The Royal Albert Hall in England. For the first time ever\, the live show will also introduce music from Yanni&#39\;s new album &quot\;Truth of Touch\,&quot\; which is the composers first album of original studio music in almost a decade. Tickets on sale on Monday\, December 18th at 10AM. Tickets available online at Ticketmaster.com\, Van Andel Arena &amp\; DeVos Place box office and charge by phone at 1-800-745-3000. Ticket prices are subject to change. Group Sales tickets available for groups of 10+. VIP Offer available online at Ticketmaster.com and by phone only. Yanni&#39\;s VIP Premium Merchandise Package includes reserved seating in rows 1-10\, exclusive Yanni merchandise designed specifically for premium packages\, a commemorative Yanni VIP laminate and an on-site greeter.
LOCATION:DeVos Performance Hall
UID:e.2018.724
SEQUENCE:3
DTSTAMP:20260422T171620Z
URL:https://members.westmihcc.org/events/details/yanni-724
END:VEVENT

END:VCALENDAR
