BEGIN:VCALENDAR
VERSION:2.0
PRODID:-//ChamberMaster//Event Calendar 2.0//EN
METHOD:PUBLISH
X-PUBLISHED-TTL:P3D
REFRESH-INTERVAL:P3D
CALSCALE:GREGORIAN
BEGIN:VEVENT
DTSTART:20161215T123000Z
DTEND:20161215T140000Z
X-MICROSOFT-CDO-ALLDAYEVENT:FALSE
SUMMARY:Year-End Membership Breakfast
DESCRIPTION:Networking opportunities with other Hispanic Chamber members\, Board of Directors and staff. Presentation on a business-related topic and room introductions. The Year-End annual meeting features a hot breakfast\, presentation from the Executive Board and drawings for holiday gift prizes! Feel free to bring an item from your company to raffle at the drawings. \n\n\n\nREGISTER HERE
X-ALT-DESC;FMTTYPE=text/html:<div><span style="font-size:12px\;"><span style="font-family:verdana\;">Networking opportunities with other Hispanic Chamber members\, Board of Directors and staff. Presentation on a business-related topic and room introductions. The Year-End annual meeting features a hot breakfast\, presentation from the Executive Board and drawings for holiday gift prizes!&nbsp\;Feel free to bring an item from your company to raffle at the drawings.&nbsp\;<br />\n<br />\n<a href="https://www.eventbrite.com/e/west-michigan-hispanic-chamber-of-commerce-year-end-membership-breakfast-tickets-30096289813">REGISTER HERE</a></span></span></div>\n
LOCATION:University Club of Grand Rapids 111 Lyon St NW\, Grand Rapids\, MI 49503 PARKING: Enter the ramps from Monroe Ave. Parking will be validated by our host.
UID:e.2018.343
SEQUENCE:3
DTSTAMP:20260425T185346Z
URL:https://members.westmihcc.org/events/details/year-end-membership-breakfast-12-15-2016-343
END:VEVENT

END:VCALENDAR
