BEGIN:VCALENDAR
VERSION:2.0
PRODID:-//ChamberMaster//Event Calendar 2.0//EN
METHOD:PUBLISH
X-PUBLISHED-TTL:P3D
REFRESH-INTERVAL:P3D
CALSCALE:GREGORIAN
BEGIN:VEVENT
DTSTART:20190118T190000Z
DTEND:20190118T220000Z
X-MICROSOFT-CDO-ALLDAYEVENT:FALSE
SUMMARY:YMCA Drop In Interview Hiring Event
DESCRIPTION:Interested in being hired at the YMCA of Greater Grand Rapids on the spot? Join us for Drop In Interviews on January 18 from 2:00-5:00pm in our David. D Hunting YMCA Community Room!\n\n\n\nJOIN OUR TEAM\n\nCome interview-ready with your updated resume to our drop in session. Interviews will take approximately 30 minutes and you could be hired on the spot!\n\n\n\nOPEN POSITIONS\n\nWe have full time and part time openings availale at multiple locations throughout the Greater Grand Rapids area. Departments hiring include Aquatics\, Childcare\, Sports\, Facilities\, and more! \n\n\n\nREQUIREMENTS\n\nOffer of employment contingent on the completion of all necessary pre-employment screenings including a background check and reference checks. \n\n\n\nBENEFITS\n\nFREE YMCA MEMBERSHIP FOR ALL Y EMPLOYEES\n\nFull Time benefits package includes: health\, dental and vision insurance\; 9% retirement upon eligibility\; 3 weeks of paid time off\; holiday pay\; and life and disability insurance.
X-ALT-DESC;FMTTYPE=text/html:Interested in being hired at the YMCA of Greater Grand Rapids on the spot? Join us for Drop In Interviews on <u><strong>January 18 from 2:00-5:00pm</strong></u> in our David. D Hunting YMCA Community Room!<br />\n<br />\n<span style="font-size:16px"><u><strong>JOIN OUR TEAM</strong></u></span><br />\nCome interview-ready with your updated resume to our drop in session. Interviews will take approximately 30 minutes and you could be hired on the spot!<br />\n<br />\n<span style="font-size:16px"><u><strong>OPEN POSITIONS</strong></u></span><br />\nWe have full time and part time openings availale at multiple locations throughout the Greater Grand Rapids area. Departments hiring include Aquatics\, Childcare\, Sports\, Facilities\, and more!&nbsp\;<br />\n<br />\n<span style="font-size:16px"><u><strong>REQUIREMENTS</strong></u></span><br />\nOffer of employment contingent on the completion of all necessary pre-employment screenings including a background check and reference checks.&nbsp\;<br />\n<br />\n<span style="font-size:16px"><u><strong>BENEFITS</strong></u></span><br />\nFREE YMCA MEMBERSHIP FOR ALL Y EMPLOYEES<br />\nFull Time benefits package includes: health\, dental and vision insurance\; 9% retirement upon eligibility\; 3 weeks of paid time off\; holiday pay\; and life and disability insurance.&nbsp\;
LOCATION:David D. Hunting YMCA 1st Floor Community Room 475 Lake Michigan Dr. NW Grand Rapids\, MI 49504
UID:e.2018.1067
SEQUENCE:3
DTSTAMP:20260422T081650Z
URL:https://members.westmihcc.org/events/details/ymca-drop-in-interview-hiring-event-1067
END:VEVENT

END:VCALENDAR
