BEGIN:VCALENDAR
VERSION:2.0
PRODID:-//ChamberMaster//Event Calendar 2.0//EN
METHOD:PUBLISH
X-PUBLISHED-TTL:P3D
REFRESH-INTERVAL:P3D
CALSCALE:GREGORIAN
BEGIN:VEVENT
DTSTART:20161012T213000Z
DTEND:20161013T003000Z
X-MICROSOFT-CDO-ALLDAYEVENT:FALSE
SUMMARY:Young Professionals Career Social hosted by New York Life Insurance Company
DESCRIPTION:Please join us for a Career Social Event:\n\nIs Your Brand Career-Ready?\nWhether you're changing careers\, a first-time job seeker\, or returning to civilian life or the workforce\, preparing yourself for the next phase of your professional life has never been more critical to your growth-and brand.\n\n\n\nPlease join us for a Career Social\, a New York Life Insurance Company-hosted networking event where you will learn from our hiring managers and financial professionals on how you can best position yourself digitally for the career you're looking for.  Attending this event will provide you the opportunity to receive:\n\n\n	tips on interviewing\n	personal branding advice\n	LinkedIn optimization techniques\n	a free professional head shot (photo)We look forward to helping you "Socialize Yourself."\n\n\nNew York Life Insurance Company EOE M/F/V/D/SO\n\nAR07884.092015 SMRU1669081 (Exp.10.15.2017)
X-ALT-DESC;FMTTYPE=text/html:<h2><span style="font-size:14px"><span style="font-family:tahoma"><span style="color:#008000">Please join us for a Career Social Event:</span></span></span></h2>\n\n<h1><span style="color:#0000CD"><span style="font-family:tahoma">Is Your Brand Career-Ready?</span></span></h1>\n<span style="font-size:16px"><span style="font-family:tahoma">Whether you&#39\;re changing careers\, a first-time job seeker\, or returning to civilian life or the workforce\, preparing yourself for the next phase of your professional life has never been more critical to your growth-and brand.<br />\n<br />\nPlease join us for a Career Social\, a New York Life Insurance Company-hosted networking event where you will learn from our hiring managers and financial professionals on how you can best position yourself digitally for the career you&#39\;re looking for. <span style="color:#006400">&nbsp\;Attending this event will provide you the opportunity to receive:</span></span></span>\n\n<ul>\n	<li><span style="color:#0000CD"><span style="font-size:16px"><span style="font-family:tahoma">tips on interviewing</span></span></span></li>\n	<li><span style="color:#0000CD"><span style="font-size:16px"><span style="font-family:tahoma">personal branding advice</span></span></span></li>\n	<li><span style="color:#0000CD"><span style="font-size:16px"><span style="font-family:tahoma">LinkedIn optimization techniques</span></span></span></li>\n	<li><span style="color:#0000CD"><span style="font-size:16px"><span style="font-family:tahoma">a free professional head shot (photo)We look forward to helping you &quot\;Socialize Yourself.&quot\;</span></span></span></li>\n</ul>\n\n<h3><span style="color:#808080"><span style="font-size:8px"><span style="font-family:tahoma">New York Life Insurance Company EOE M/F/V/D/SO</span><br />\nAR07884.092015 SMRU1669081 (Exp.10.15.2017)</span></span></h3>\n
LOCATION:The Attic at J Gardella's Tavern 11 Ionia NW Grand Rapids\, MI 49503
UID:e.2018.495
SEQUENCE:3
DTSTAMP:20260425T213402Z
URL:https://members.westmihcc.org/events/details/young-professionals-career-social-hosted-by-new-york-life-insurance-company-495
END:VEVENT

END:VCALENDAR
