BEGIN:VCALENDAR
VERSION:2.0
PRODID:-//ChamberMaster//Event Calendar 2.0//EN
METHOD:PUBLISH
X-PUBLISHED-TTL:P3D
REFRESH-INTERVAL:P3D
CALSCALE:GREGORIAN
BEGIN:VEVENT
DTSTART:20190427T000000Z
DTEND:20190427T030000Z
X-MICROSOFT-CDO-ALLDAYEVENT:FALSE
SUMMARY:Zamora Entertainment: Los Tucanes de Tijuana
DESCRIPTION:Los Tucanes de Tijuana Los Recoditos   Brazeros Musical Doors 8PM
X-ALT-DESC;FMTTYPE=text/html:Los Tucanes de Tijuana Los Recoditos &middot\; Brazeros Musical Doors 8PM
LOCATION:The DeltaPlex Arena
UID:e.2018.1205
SEQUENCE:3
DTSTAMP:20260420T050442Z
URL:https://members.westmihcc.org/events/details/zamora-entertainment-los-tucanes-de-tijuana-1205
END:VEVENT

END:VCALENDAR
